
BEGIN:VCALENDAR
VERSION:2.0
PRODID:-//wp-events-plugin.com//7.2.3.1//EN
TZID:America/New_York
X-WR-TIMEZONE:America/New_York
BEGIN:VEVENT
UID:494@famemaine.com
DTSTART;TZID=America/New_York:20241211T130000
DTEND;TZID=America/New_York:20241211T140000
DTSTAMP:20241024T153957Z
URL:https://www.famemaine.com/events/wednesday-webinar-you-asked-for-it-we
 ve-got-it/
SUMMARY:Wednesday Webinar: You Asked for It – We’ve Got It!
DESCRIPTION:We love getting feedback from you! Sometimes we receive request
 s for new or additional FAME resources that already exist or are in the wo
 rks. During this session\, we’ll share a variety of tools and resources 
 that are currently available and let you know how to access them.  We’l
 l wrap up the session by sharing ideas in the works and inviting you to sh
 are your requests. Be sure to bring your “I really wish FAME did this”
  ideas with you! We look forward to having you join us to learn more about
  what FAME can do to support you.\n\nRegister.
CATEGORIES:Education,Wednesday Webinar
LOCATION:Online\, webinar\, via Zoom\, United States
GEO:44.31;-69.78
X-APPLE-STRUCTURED-LOCATION;VALUE=URI;X-ADDRESS=webinar\, via Zoom\, United
  States;X-APPLE-RADIUS=100;X-TITLE=Online:geo:44.31,-69.78
END:VEVENT
BEGIN:VTIMEZONE
TZID:America/New_York
X-LIC-LOCATION:America/New_York
BEGIN:STANDARD
DTSTART:20241103T010000
TZOFFSETFROM:-0400
TZOFFSETTO:-0500
TZNAME:EST
END:STANDARD
END:VTIMEZONE
END:VCALENDAR