
BEGIN:VCALENDAR
VERSION:2.0
PRODID:-//wp-events-plugin.com//7.2.3.1//EN
TZID:America/New_York
X-WR-TIMEZONE:America/New_York
BEGIN:VEVENT
UID:431@famemaine.com
DTSTART;TZID=America/New_York:20240522T130000
DTEND;TZID=America/New_York:20240522T140000
DTSTAMP:20240401T175157Z
URL:https://www.famemaine.com/events/wednesday-webinar-reworking-the-plan-
 alternative-pathways-available-to-students/
SUMMARY:Wednesday Webinar: Reworking the Plan—Alternative Pathways Availa
 ble to Students
DESCRIPTION:Members of this year’s senior class have had numerous curveba
 lls thrown their way on the path to graduation. When it comes to paying fo
 r college\, students may not find out until the eleventh hour that their c
 ollege of choice is out of reach financially—and then they have to make 
 a new plan fast. Luckily\, many other great options are available\, and we
 ’ve got tips! In this session\, we’ll discuss how students can quickly
  find other opportunities and alternative pathways to achieve their higher
  education goals.\n\nRegister.
CATEGORIES:Education,Wednesday Webinar
LOCATION:Online\, webinar\, via Zoom\, United States
GEO:44.31;-69.78
X-APPLE-STRUCTURED-LOCATION;VALUE=URI;X-ADDRESS=webinar\, via Zoom\, United
  States;X-APPLE-RADIUS=100;X-TITLE=Online:geo:44.31,-69.78
END:VEVENT
BEGIN:VTIMEZONE
TZID:America/New_York
X-LIC-LOCATION:America/New_York
BEGIN:DAYLIGHT
DTSTART:20240310T030000
TZOFFSETFROM:-0500
TZOFFSETTO:-0400
TZNAME:EDT
END:DAYLIGHT
END:VTIMEZONE
END:VCALENDAR