
BEGIN:VCALENDAR
VERSION:2.0
PRODID:-//wp-events-plugin.com//7.2.3.1//EN
TZID:America/New_York
X-WR-TIMEZONE:America/New_York
BEGIN:VEVENT
UID:389@famemaine.com
DTSTART;TZID=America/New_York:20240110T130000
DTEND;TZID=America/New_York:20240110T143000
DTSTAMP:20240109T213750Z
URL:https://www.famemaine.com/events/wednesday-webinar-filing-the-2024-202
 5-fafsa/
SUMMARY:Postponed until January 17th -- Wednesday Webinar: Filing the 2024-
 2025 FAFSA
DESCRIPTION:UPDATE (01/09/24): Due to the impending storm\, our January Wed
 nesday webinar scheduled for 1/10/24 has been postponed until next Wednesd
 ay\, January 17th. If you've already registered for the webinar\, your reg
 istration is good for next week's event. If you haven't yet registered for
  the event\, you can do so on the updated event page.\n\nThe 2024-2025 FAF
 SA will be released by the end of December! In this expanded 90-minute ses
 sion\, we’ll focus on a section-by-section walk through of the new Bette
 r FAFSA. We’ll also discuss FSA IDs\, processes related to the new roles
 -based form and share tips about what we’ve learned so far!
CATEGORIES:Education,Wednesday Webinar
LOCATION:Online\, webinar\, via Zoom\, United States
GEO:44.31;-69.78
X-APPLE-STRUCTURED-LOCATION;VALUE=URI;X-ADDRESS=webinar\, via Zoom\, United
  States;X-APPLE-RADIUS=100;X-TITLE=Online:geo:44.31,-69.78
END:VEVENT
BEGIN:VTIMEZONE
TZID:America/New_York
X-LIC-LOCATION:America/New_York
BEGIN:STANDARD
DTSTART:20231105T010000
TZOFFSETFROM:-0400
TZOFFSETTO:-0500
TZNAME:EST
END:STANDARD
END:VTIMEZONE
END:VCALENDAR