
BEGIN:VCALENDAR
VERSION:2.0
PRODID:-//wp-events-plugin.com//7.2.3.1//EN
TZID:America/New_York
X-WR-TIMEZONE:America/New_York
BEGIN:VEVENT
UID:557@famemaine.com
DTSTART;TZID=America/New_York:20250310T180000
DTEND;TZID=America/New_York:20250310T180000
DTSTAMP:20250227T153404Z
URL:https://www.famemaine.com/events/virtual-financial-aid-information-ses
 sion-39/
SUMMARY:Virtual Financial Aid Information Session
DESCRIPTION:Calling all high school juniors and their caregivers from Maine
  Central Institute and Massabesic High School (and anyone interested in kn
 owing more about financial aid)! The Free Application for Federal Student 
 Aid (FAFSA) will be available on October 1\, 2025. Now is the time to lear
 n about the process so you can take the steps needed to be ready to file t
 he FAFSA in the fall. FAME is here to help\, and we encourage you to bring
  your questions. Hope to see you there!\n\nZoom link: https://famemaine.zo
 om.us/j/87853870311
CATEGORIES:Education,Financial Aid Information Sessions,Virtual Financial
 Aid Events
LOCATION:Online\, webinar\, via Zoom\, United States
GEO:44.31;-69.78
X-APPLE-STRUCTURED-LOCATION;VALUE=URI;X-ADDRESS=webinar\, via Zoom\, United
  States;X-APPLE-RADIUS=100;X-TITLE=Online:geo:44.31,-69.78
END:VEVENT
BEGIN:VTIMEZONE
TZID:America/New_York
X-LIC-LOCATION:America/New_York
BEGIN:DAYLIGHT
DTSTART:20250309T030000
TZOFFSETFROM:-0500
TZOFFSETTO:-0400
TZNAME:EDT
END:DAYLIGHT
END:VTIMEZONE
END:VCALENDAR