
BEGIN:VCALENDAR
VERSION:2.0
PRODID:-//wp-events-plugin.com//7.2.3.1//EN
TZID:America/New_York
X-WR-TIMEZONE:America/New_York
BEGIN:VEVENT
UID:165@famemaine.com
DTSTART;TZID=America/New_York:20220323T120000
DTEND;TZID=America/New_York:20220323T130000
DTSTAMP:20220225T175946Z
URL:https://www.famemaine.com/events/understanding-pslf-and-the-temporary-
 waivers-me-and-ri/
SUMMARY:Understanding PSLF and the Temporary Waivers - ME and RI
DESCRIPTION:This session\, provided by nationally recognized PSLF expert Be
 tsy Mayotte\, will explain in detail the eligibility requirements for the 
 Public Service Loan Forgiveness program. The session will also go into det
 ail as to the temporary waivers for PSLF announced in October that opens u
 p eligibility for borrowers who may have been on the wrong plan or had the
  wrong loans in the past. This session is critical for employees of PSLF e
 ligible institutions\, the Human Resources areas of those institutions and
  those that communicate with students and alumni.\n\nRegister
CATEGORIES:Education
LOCATION:Online\, webinar\, via Zoom\, United States
GEO:44.31;-69.78
X-APPLE-STRUCTURED-LOCATION;VALUE=URI;X-ADDRESS=webinar\, via Zoom\, United
  States;X-APPLE-RADIUS=100;X-TITLE=Online:geo:44.31,-69.78
END:VEVENT
BEGIN:VTIMEZONE
TZID:America/New_York
X-LIC-LOCATION:America/New_York
BEGIN:DAYLIGHT
DTSTART:20220313T030000
TZOFFSETFROM:-0500
TZOFFSETTO:-0400
TZNAME:EDT
END:DAYLIGHT
END:VTIMEZONE
END:VCALENDAR