
BEGIN:VCALENDAR
VERSION:2.0
PRODID:-//wp-events-plugin.com//7.2.3.1//EN
TZID:America/New_York
X-WR-TIMEZONE:America/New_York
BEGIN:VEVENT
UID:582@famemaine.com
DTSTART;TZID=America/New_York:20251205T120000
DTEND;TZID=America/New_York:20251205T120000
DTSTAMP:20250711T183804Z
URL:https://www.famemaine.com/events/understanding-multiple-pathways-to-ed
 ucation-and-training-2/
SUMMARY:Understanding Multiple Pathways to Education and Training
DESCRIPTION:There are more options than ever to help Maine people gain the 
 essential education and skills needed to prepare for a future career\, or 
 to level up skills for an existing career. From apprenticeships to bachelo
 r’s degrees\, there are numerous education and training options across t
 he state. During this informative session\, we’ll provide an overview of
  the latest options\, funding available\, and how both traditional and non
 -traditional students can find alternative pathways to achieve their highe
 r education goals.\n\nRegister Now
LOCATION:Online\, webinar\, via Zoom\, United States
GEO:44.31;-69.78
X-APPLE-STRUCTURED-LOCATION;VALUE=URI;X-ADDRESS=webinar\, via Zoom\, United
  States;X-APPLE-RADIUS=100;X-TITLE=Online:geo:44.31,-69.78
END:VEVENT
BEGIN:VTIMEZONE
TZID:America/New_York
X-LIC-LOCATION:America/New_York
BEGIN:STANDARD
DTSTART:20251102T010000
TZOFFSETFROM:-0400
TZOFFSETTO:-0500
TZNAME:EST
END:STANDARD
END:VTIMEZONE
END:VCALENDAR