
BEGIN:VCALENDAR
VERSION:2.0
PRODID:-//wp-events-plugin.com//7.2.3.1//EN
TZID:America/New_York
X-WR-TIMEZONE:America/New_York
BEGIN:VEVENT
UID:250@famemaine.com
DTSTART;TZID=America/New_York:20230228T180000
DTEND;TZID=America/New_York:20230228T200000
DTSTAMP:20230112T174306Z
URL:https://www.famemaine.com/events/understanding-and-comparing-financial
 -aid-offers-4/
SUMMARY:Understanding and Comparing Financial Aid Offers
DESCRIPTION:Understanding and comparing financial aid offers are two of the
  most important steps in the financial aid process. It is important that f
 amilies understand the true cost for each school before making a final sch
 ool selection. Every financial aid offer looks different and schools don't
  provide all of the same information\, so this process can be challenging.
  In this session\, we’ll provide the information needed to navigate fina
 ncial aid offers\, including what to look for\, how to compare offers\, an
 d even what to do if financial circumstances have changed.
CATEGORIES:Financial Aid Information Sessions
LOCATION:https://famemaine.zoom.us/meeting/register/tZYsdOuoqT0uGtIo8LjLDEf
 36xJXSQXSpp98
END:VEVENT
BEGIN:VTIMEZONE
TZID:America/New_York
X-LIC-LOCATION:America/New_York
BEGIN:STANDARD
DTSTART:20221106T010000
TZOFFSETFROM:-0400
TZOFFSETTO:-0500
TZNAME:EST
END:STANDARD
END:VTIMEZONE
END:VCALENDAR