
BEGIN:VCALENDAR
VERSION:2.0
PRODID:-//wp-events-plugin.com//7.2.3.1//EN
TZID:America/New_York
X-WR-TIMEZONE:America/New_York
BEGIN:VEVENT
UID:531@famemaine.com
DTSTART;TZID=America/New_York:20250312T130000
DTEND;TZID=America/New_York:20250312T130000
DTSTAMP:20250127T150555Z
URL:https://www.famemaine.com/events/the-path-to-paying-the-bill-tips-to-a
 fford-college-after-financial-aid/
SUMMARY:Wednesday Webinar - The Path to Paying the Bill – Tips to Afford 
 College After Financial Aid
DESCRIPTION:Even when colleges offer generous financial aid\, many students
  find there’s still a gap between their financial aid and the cost to at
 tend school. Few students and families can afford to write a check for the
  full remaining balance. So\, what are their options? Fortunately\, there 
 are several ways that students can tackle that tab. Join us for this month
 ’s webinar where we’ll talk about ways to bridge the gap and share som
 e of our favorite tools and resources that can support you in helping stud
 ents pay the bill for college.\nRegister Now
CATEGORIES:Education,Wednesday Webinar
LOCATION:Online\, webinar\, via Zoom\, United States
GEO:44.31;-69.78
X-APPLE-STRUCTURED-LOCATION;VALUE=URI;X-ADDRESS=webinar\, via Zoom\, United
  States;X-APPLE-RADIUS=100;X-TITLE=Online:geo:44.31,-69.78
END:VEVENT
BEGIN:VTIMEZONE
TZID:America/New_York
X-LIC-LOCATION:America/New_York
BEGIN:DAYLIGHT
DTSTART:20250309T030000
TZOFFSETFROM:-0500
TZOFFSETTO:-0400
TZNAME:EDT
END:DAYLIGHT
END:VTIMEZONE
END:VCALENDAR