
BEGIN:VCALENDAR
VERSION:2.0
PRODID:-//wp-events-plugin.com//7.2.3.1//EN
TZID:America/New_York
X-WR-TIMEZONE:America/New_York
BEGIN:VEVENT
UID:305@famemaine.com
DTSTART;TZID=America/New_York:20230815T090000
DTEND;TZID=America/New_York:20230815T140000
DTSTAMP:20230717T204131Z
URL:https://www.famemaine.com/events/summer-financial-aid-training-for-edu
 cation-professionals/
SUMMARY:Summer Financial Aid Training for Education Professionals
DESCRIPTION:FAFSA Simplification is not only bringing significant changes t
 o both the FAFSA form and application process but it's also resulted in th
 e 2024-2025 FAFSA being delayed until December 2023. This training will he
 lp prepare education professionals to support students with the new "bette
 r" FAFSA for 2024-2025.\n\nDownload the agenda.\n\nRegister.
CATEGORIES:Education
LOCATION:Online\, webinar\, via Zoom\, United States
GEO:44.31;-69.78
X-APPLE-STRUCTURED-LOCATION;VALUE=URI;X-ADDRESS=webinar\, via Zoom\, United
  States;X-APPLE-RADIUS=100;X-TITLE=Online:geo:44.31,-69.78
END:VEVENT
BEGIN:VTIMEZONE
TZID:America/New_York
X-LIC-LOCATION:America/New_York
BEGIN:DAYLIGHT
DTSTART:20230312T030000
TZOFFSETFROM:-0500
TZOFFSETTO:-0400
TZNAME:EDT
END:DAYLIGHT
END:VTIMEZONE
END:VCALENDAR