
BEGIN:VCALENDAR
VERSION:2.0
PRODID:-//wp-events-plugin.com//7.2.3.1//EN
TZID:America/New_York
X-WR-TIMEZONE:America/New_York
BEGIN:VEVENT
UID:410@famemaine.com
DTSTART;TZID=America/New_York:20240212T190000
DTEND;TZID=America/New_York:20240212T200000
DTSTAMP:20240110T163203Z
URL:https://www.famemaine.com/events/successful-scholarship-searches-and-a
 pplications/
SUMMARY:Successful Scholarship Searches and Applications
DESCRIPTION:Scholarships can go a long way in helping students cover colleg
 e costs\, but being successful in the scholarship application process can 
 take some work. In this session\, you’ll learn to build and work on your
  own scholarship application plan. You’ll also learn about (and try out)
  different scholarship websites\, how to best use a scholarship informatio
 n tracker\, and how to avoid some of the challenges of the scholarship pro
 cess. Students and parents interested in learning about the scholarship pr
 ocess are welcome to join this one-hour workshop with FAME College Access 
 Counselor Jessica Whittier.\nRegister
CATEGORIES:Education,Virtual Financial Aid Events
LOCATION:Online\, webinar\, via Zoom\, United States
GEO:44.31;-69.78
X-APPLE-STRUCTURED-LOCATION;VALUE=URI;X-ADDRESS=webinar\, via Zoom\, United
  States;X-APPLE-RADIUS=100;X-TITLE=Online:geo:44.31,-69.78
END:VEVENT
BEGIN:VTIMEZONE
TZID:America/New_York
X-LIC-LOCATION:America/New_York
BEGIN:STANDARD
DTSTART:20231105T010000
TZOFFSETFROM:-0400
TZOFFSETTO:-0500
TZNAME:EST
END:STANDARD
END:VTIMEZONE
END:VCALENDAR