
BEGIN:VCALENDAR
VERSION:2.0
PRODID:-//wp-events-plugin.com//7.2.3.1//EN
TZID:America/New_York
X-WR-TIMEZONE:America/New_York
BEGIN:VEVENT
UID:572@famemaine.com
DTSTART;TZID=America/New_York:20251201T190000
DTEND;TZID=America/New_York:20251201T200000
DTSTAMP:20250516T152500Z
URL:https://www.famemaine.com/events/successful-scholarship-searches-and-a
 pplications-3/
SUMMARY:Successful Scholarship Searches and Applications
DESCRIPTION:Scholarships can go a long way in helping students cover colleg
 e costs\, but being successful in the scholarship application process can 
 take some work. In this session\, you’ll learn to build and work your sc
 holarship application plan. You’ll also learn about and try out differen
 t scholarship websites\, learn how to best use a scholarship information t
 racker\, and learn to avoid some of the challenges of the scholarship proc
 ess. Students and parents interested in learning about the scholarship pro
 cess can join Jessica Whittier\, College Access Counselor with the Finance
  Authority of Maine for this 1-hour workshop as we talk scholarships.\nReg
 ister
CATEGORIES:Community and Adult Education,Education
LOCATION:Online\, webinar\, via Zoom\, United States
GEO:44.31;-69.78
X-APPLE-STRUCTURED-LOCATION;VALUE=URI;X-ADDRESS=webinar\, via Zoom\, United
  States;X-APPLE-RADIUS=100;X-TITLE=Online:geo:44.31,-69.78
END:VEVENT
BEGIN:VTIMEZONE
TZID:America/New_York
X-LIC-LOCATION:America/New_York
BEGIN:STANDARD
DTSTART:20251102T010000
TZOFFSETFROM:-0400
TZOFFSETTO:-0500
TZNAME:EST
END:STANDARD
END:VTIMEZONE
END:VCALENDAR