
BEGIN:VCALENDAR
VERSION:2.0
PRODID:-//wp-events-plugin.com//7.2.3.1//EN
TZID:America/New_York
X-WR-TIMEZONE:America/New_York
BEGIN:VEVENT
UID:571@famemaine.com
DTSTART;TZID=America/New_York:20251105T180000
DTEND;TZID=America/New_York:20251105T193000
DTSTAMP:20250516T152347Z
URL:https://www.famemaine.com/events/student-loan-repayment-strategies-and
 -pro-tips-3/
SUMMARY:Student Loan Repayment Strategies and Pro Tips
DESCRIPTION:There are many different facets to the student loan program tha
 t can be powerful in helping you achieve your financial goals but also can
  be confusing. If you are struggling with your payments\, did you know the
 re are several income-based repayment plans as well as deferment or forbea
 rance? Did you know you could get .25% off your interest rate if you sign 
 up for auto-debit on your federal loans? Do you know you can work towards 
 loan forgiveness now if you work for a non-profit\, government or tribal a
 gency? Whether you have recently graduated from college or have been repay
 ing your student loans for a long time\, join us to learn how to best mana
 ge your student loan repayment. Join Nikki Vachon\, College Access Counsel
 or from the Finance Authority of Maine as she walks you through finding yo
 ur loans\, shows you how to simulate loan payments in different payment pl
 ans\, and determines what plan will help you meet your financial goals.\nR
 egister
CATEGORIES:Community and Adult Education,Education
LOCATION:Online\, webinar\, via Zoom\, United States
GEO:44.31;-69.78
X-APPLE-STRUCTURED-LOCATION;VALUE=URI;X-ADDRESS=webinar\, via Zoom\, United
  States;X-APPLE-RADIUS=100;X-TITLE=Online:geo:44.31,-69.78
END:VEVENT
BEGIN:VTIMEZONE
TZID:America/New_York
X-LIC-LOCATION:America/New_York
BEGIN:STANDARD
DTSTART:20251102T010000
TZOFFSETFROM:-0400
TZOFFSETTO:-0500
TZNAME:EST
END:STANDARD
END:VTIMEZONE
END:VCALENDAR