
BEGIN:VCALENDAR
VERSION:2.0
PRODID:-//wp-events-plugin.com//7.2.3.1//EN
TZID:America/New_York
X-WR-TIMEZONE:America/New_York
BEGIN:VEVENT
UID:537@famemaine.com
DTSTART;TZID=America/New_York:20250507T180000
DTEND;TZID=America/New_York:20250507T190000
DTSTAMP:20250206T143143Z
URL:https://www.famemaine.com/events/student-loan-repayment-strategies-and
 -pro-tips-2/
SUMMARY:Student Loan Repayment Strategies and Pro Tips
DESCRIPTION:There are many different facets to the student loan program tha
 t can be powerful in helping you achieve your financial goals but also can
  be confusing. If you are struggling with your payments\, did you know the
 re are several income-based repayment plans as well as deferment or forbea
 rance? Did you know you could get .25% off your interest rate if you sign 
 up for auto-debit on your federal loans? Do you know you can work towards 
 loan forgiveness now if you work for a non-profit\, government or tribal a
 gency? Whether you have recently graduated from college or have been repay
 ing your student loans for a long time\, join us to learn how to best mana
 ge your student loan repayment. Join Nikki Vachon\, College Access Counsel
 or from the Finance Authority of Maine as she shares pro tips and answers 
 questions.\n\nPresenter: NVachon@famemaine.com\n\n&nbsp\;\n\nZoom Link: ht
 tps://famemaine.zoom.us/meeting/register/tZUvdemvrjooG9HrzwomfyvvqgtRj0kvP
 drn
CATEGORIES:Education,Financial Wellness
LOCATION:Online\, webinar\, via Zoom\, United States
GEO:44.31;-69.78
X-APPLE-STRUCTURED-LOCATION;VALUE=URI;X-ADDRESS=webinar\, via Zoom\, United
  States;X-APPLE-RADIUS=100;X-TITLE=Online:geo:44.31,-69.78
END:VEVENT
BEGIN:VTIMEZONE
TZID:America/New_York
X-LIC-LOCATION:America/New_York
BEGIN:DAYLIGHT
DTSTART:20250309T030000
TZOFFSETFROM:-0500
TZOFFSETTO:-0400
TZNAME:EDT
END:DAYLIGHT
END:VTIMEZONE
END:VCALENDAR