
BEGIN:VCALENDAR
VERSION:2.0
PRODID:-//wp-events-plugin.com//7.2.3.1//EN
TZID:America/New_York
X-WR-TIMEZONE:America/New_York
BEGIN:VEVENT
UID:701@famemaine.com
DTSTART;TZID=America/New_York:20260408T100000
DTEND;TZID=America/New_York:20260408T100000
DTSTAMP:20260326T201834Z
URL:https://www.famemaine.com/events/public-hearing-to-be-held-eme-biofuel
 s-llc-revenue-obligation-securities-program/
SUMMARY:Public Hearing to be Held—EME Biofuels\, LLC (Revenue Obligation 
 Securities Program)
DESCRIPTION:Public hearing to be held at the FAME office located at 5 Commu
 nity Drive in Augusta\, ME.
CATEGORIES:Business
LOCATION:FAME\, 5 Community Drive\, Augusta\, Maine\, United States
GEO:44.3406852;-69.7934922
X-APPLE-STRUCTURED-LOCATION;VALUE=URI;X-ADDRESS=5 Community Drive\, Augusta
 \, Maine\, United States;X-APPLE-RADIUS=100;X-TITLE=FAME:geo:44.3406852,-6
 9.7934922
END:VEVENT
BEGIN:VTIMEZONE
TZID:America/New_York
X-LIC-LOCATION:America/New_York
BEGIN:DAYLIGHT
DTSTART:20260308T030000
TZOFFSETFROM:-0500
TZOFFSETTO:-0400
TZNAME:EDT
END:DAYLIGHT
END:VTIMEZONE
END:VCALENDAR