
BEGIN:VCALENDAR
VERSION:2.0
PRODID:-//wp-events-plugin.com//7.2.3.1//EN
TZID:America/New_York
X-WR-TIMEZONE:America/New_York
BEGIN:VEVENT
UID:661@famemaine.com
DTSTART;TZID=America/New_York:20260511T183000
DTEND;TZID=America/New_York:20260511T183000
DTSTAMP:20251028T190624Z
URL:https://www.famemaine.com/events/planning-and-paying-for-college-4/
SUMMARY:Planning and Paying for College
DESCRIPTION:Do you have children who will be looking at college in the next
  few years\, or might you be thinking of returning to school yourself? Now
  is a great time to start thinking about the college financial aid process
  and ways to boost college savings. The earlier you start\, the more confi
 dent and relaxed you will feel when it is time to apply for financial aid.
  Join Jessica Whittier\, College Access Counselor with the Finance Authori
 ty of Maine for this 1-hour workshop as we talk all things paying for coll
 ege.\nRegister 
CATEGORIES:Community and Adult Education,Education
LOCATION:Online\, webinar\, via Zoom\, United States
GEO:44.31;-69.78
X-APPLE-STRUCTURED-LOCATION;VALUE=URI;X-ADDRESS=webinar\, via Zoom\, United
  States;X-APPLE-RADIUS=100;X-TITLE=Online:geo:44.31,-69.78
END:VEVENT
BEGIN:VTIMEZONE
TZID:America/New_York
X-LIC-LOCATION:America/New_York
BEGIN:DAYLIGHT
DTSTART:20260308T030000
TZOFFSETFROM:-0500
TZOFFSETTO:-0400
TZNAME:EDT
END:DAYLIGHT
END:VTIMEZONE
END:VCALENDAR