
BEGIN:VCALENDAR
VERSION:2.0
PRODID:-//wp-events-plugin.com//7.2.3.1//EN
TZID:America/New_York
X-WR-TIMEZONE:America/New_York
BEGIN:VEVENT
UID:522@famemaine.com
DTSTART;TZID=America/New_York:20250305T180000
DTEND;TZID=America/New_York:20250305T190000
DTSTAMP:20241205T220110Z
URL:https://www.famemaine.com/events/planning-and-paying-for-college-2/
SUMMARY:Planning and Paying for College
DESCRIPTION:Do you have children who will be looking at college in the next
  few years or might you be thinking of returning to school yourself? Now i
 s a great time to start thinking about the college financial aid process a
 nd ways to boost college savings. The earlier you start\, the more confide
 nt and relaxed you will feel when it is time to apply for financial aid. J
 oin Michelle Radley\, College Access Counselor with the Finance Authority 
 of Maine for this 1-hour workshop as we talk all things paying for college
 .\nRegister
CATEGORIES:Education,Financial Wellness
LOCATION:Online\, webinar\, via Zoom\, United States
GEO:44.31;-69.78
X-APPLE-STRUCTURED-LOCATION;VALUE=URI;X-ADDRESS=webinar\, via Zoom\, United
  States;X-APPLE-RADIUS=100;X-TITLE=Online:geo:44.31,-69.78
END:VEVENT
BEGIN:VTIMEZONE
TZID:America/New_York
X-LIC-LOCATION:America/New_York
BEGIN:STANDARD
DTSTART:20241103T010000
TZOFFSETFROM:-0400
TZOFFSETTO:-0500
TZNAME:EST
END:STANDARD
END:VTIMEZONE
END:VCALENDAR