
BEGIN:VCALENDAR
VERSION:2.0
PRODID:-//wp-events-plugin.com//7.2.3.1//EN
TZID:America/New_York
X-WR-TIMEZONE:America/New_York
BEGIN:VEVENT
UID:212@famemaine.com
DTSTART;TZID=America/New_York:20230303T120000
DTEND;TZID=America/New_York:20230303T130000
DTSTAMP:20230221T205815Z
URL:https://www.famemaine.com/events/pay-yourself-first-creating-a-plan-to
 -save-debunking-savings-myths-and-tips-to-help-you-reach-your-financial-go
 als/
SUMMARY:Pay Yourself First: Creating a Plan to Save\, Debunking Savings Myt
 hs and Tips to Help You Reach Your Financial Goals
DESCRIPTION:We’ve all heard how important it is to save for things we wan
 t. But saving can be hard\, and\, in the case of higher education\, is it 
 really worth it? Yes\, it is! In this session\, we’ll debunk common myth
 s related to financial aid and the impact of saving so that you can save w
 ith confidence and have more options available! We’ll also discuss ways 
 to make saving easier and programs that can help you reach your savings go
 als!\nRegister        
LOCATION:Online\, webinar\, via Zoom\, United States
GEO:44.31;-69.78
X-APPLE-STRUCTURED-LOCATION;VALUE=URI;X-ADDRESS=webinar\, via Zoom\, United
  States;X-APPLE-RADIUS=100;X-TITLE=Online:geo:44.31,-69.78
END:VEVENT
BEGIN:VTIMEZONE
TZID:America/New_York
X-LIC-LOCATION:America/New_York
BEGIN:STANDARD
DTSTART:20221106T010000
TZOFFSETFROM:-0400
TZOFFSETTO:-0500
TZNAME:EST
END:STANDARD
END:VTIMEZONE
END:VCALENDAR