
BEGIN:VCALENDAR
VERSION:2.0
PRODID:-//wp-events-plugin.com//7.2.3.1//EN
TZID:America/New_York
X-WR-TIMEZONE:America/New_York
BEGIN:VEVENT
UID:580@famemaine.com
DTSTART;TZID=America/New_York:20251003T120000
DTEND;TZID=America/New_York:20251003T120000
DTSTAMP:20250805T132352Z
URL:https://www.famemaine.com/events/oh-no-my-budget-is-leaking-top-10-are
 as-where-our-budgets-leak/
SUMMARY:Oh No\, My Budget is Leaking! Top 10 Areas where Our Budgets Leak
DESCRIPTION:Whether trying to save more\, pay down debt\, fight inflation\,
  or just make ends meet\, it’s important to get the most out of a budget
 . But money has a way of leaking out of our pots of gold\, and in this ses
 sion\, we will look at some of the most likely areas where you can button 
 up and redirect your financial resources.\n\nRegister
CATEGORIES:Financial Check-in with FAME
LOCATION:Online\, webinar\, via Zoom\, United States
GEO:44.31;-69.78
X-APPLE-STRUCTURED-LOCATION;VALUE=URI;X-ADDRESS=webinar\, via Zoom\, United
  States;X-APPLE-RADIUS=100;X-TITLE=Online:geo:44.31,-69.78
END:VEVENT
BEGIN:VTIMEZONE
TZID:America/New_York
X-LIC-LOCATION:America/New_York
BEGIN:DAYLIGHT
DTSTART:20250309T030000
TZOFFSETFROM:-0500
TZOFFSETTO:-0400
TZNAME:EDT
END:DAYLIGHT
END:VTIMEZONE
END:VCALENDAR