
BEGIN:VCALENDAR
VERSION:2.0
PRODID:-//wp-events-plugin.com//7.2.3.1//EN
TZID:America/New_York
X-WR-TIMEZONE:America/New_York
BEGIN:VEVENT
UID:570@famemaine.com
DTSTART;TZID=America/New_York:20251021T183000
DTEND;TZID=America/New_York:20251021T193000
DTSTAMP:20250516T152827Z
URL:https://www.famemaine.com/events/money-grows-adulting-102/
SUMMARY:Money Grows: Adulting 102
DESCRIPTION:So\, you’re on a budget\, managing a bank account\, and wonde
 ring about the next steps in your financial journey. In Adulting 102\, we 
 will look at the differences between saving and investing\, and if you are
  ready to invest\, how to get started. Other topics will include protectin
 g your assets (insurance)\, advanced budgeting\, and understanding the rol
 e that economics plays in our financial life. Join Steve Kautz\, Financial
  Education Programs Specialist from the Finance Authority of Maine for thi
 s 1-hour virtual workshop as you take the next steps into adulting.\nRegis
 ter
CATEGORIES:Community and Adult Education,Education
LOCATION:Online\, webinar\, via Zoom\, United States
GEO:44.31;-69.78
X-APPLE-STRUCTURED-LOCATION;VALUE=URI;X-ADDRESS=webinar\, via Zoom\, United
  States;X-APPLE-RADIUS=100;X-TITLE=Online:geo:44.31,-69.78
END:VEVENT
BEGIN:VTIMEZONE
TZID:America/New_York
X-LIC-LOCATION:America/New_York
BEGIN:DAYLIGHT
DTSTART:20250309T030000
TZOFFSETFROM:-0500
TZOFFSETTO:-0400
TZNAME:EDT
END:DAYLIGHT
END:VTIMEZONE
END:VCALENDAR