
BEGIN:VCALENDAR
VERSION:2.0
PRODID:-//wp-events-plugin.com//7.2.3.1//EN
TZID:America/New_York
X-WR-TIMEZONE:America/New_York
BEGIN:VEVENT
UID:364@famemaine.com
DTSTART;TZID=America/New_York:20230927T151500
DTEND;TZID=America/New_York:20230927T154500
DTSTAMP:20230918T161157Z
URL:https://www.famemaine.com/events/invest-in-me-reads-program-overview-a
 nd-launch/
SUMMARY:Invest in ME Reads Program Overview and Launch
DESCRIPTION:Invest in ME Reads is a family financial wellness program desig
 ned to help parents and caregivers explore educational goals and teach fin
 ancial skills.\n\nDuring this webinar\, you'll receive a overview of FAME'
 s Invest in ME Reads program\, including program goals\, a review of the b
 ooks and materials for your students\, and ideas for family engagement. Th
 e free program includes books and resources for elementary students and th
 eir families\, along with an educational website\, InvestinMeReads.com. Th
 e webinar will last 20 minutes and will be offered at 7:30AM and 3:15PM.\n
 \nRegister
CATEGORIES:Education,Financial Wellness
LOCATION:Online\, webinar\, via Zoom\, United States
GEO:44.31;-69.78
X-APPLE-STRUCTURED-LOCATION;VALUE=URI;X-ADDRESS=webinar\, via Zoom\, United
  States;X-APPLE-RADIUS=100;X-TITLE=Online:geo:44.31,-69.78
END:VEVENT
BEGIN:VTIMEZONE
TZID:America/New_York
X-LIC-LOCATION:America/New_York
BEGIN:DAYLIGHT
DTSTART:20230312T030000
TZOFFSETFROM:-0500
TZOFFSETTO:-0400
TZNAME:EDT
END:DAYLIGHT
END:VTIMEZONE
END:VCALENDAR