
BEGIN:VCALENDAR
VERSION:2.0
PRODID:-//wp-events-plugin.com//7.2.3.1//EN
TZID:America/New_York
X-WR-TIMEZONE:America/New_York
BEGIN:VEVENT
UID:206@famemaine.com
DTSTART;TZID=America/New_York:20221104T120000
DTEND;TZID=America/New_York:20221104T130000
DTSTAMP:20220831T163031Z
URL:https://www.famemaine.com/events/inflation-busting-tips-to-set-you-on-
 a-path-to-financial-stability/
SUMMARY:Inflation-Busting Tips to Set You on a Path to Financial Stability
DESCRIPTION:These days\, everything seems to be more expensive than ever\, 
 and the rising costs go beyond groceries and fuel. During this session\, w
 e’ll touch on some tips for reducing everyday expenses\, staying within 
 your budget\, and finding good deals. We’ll dive into online vs. in-stor
 e shopping\, subscription shopping services\, and more. Bring your mobile 
 device- we’re going to explore shopping and saving apps\, and together\,
  we’ll make a plan before the winter and holiday season is upon us!\nReg
 ister\n
LOCATION:Online\, webinar\, via Zoom\, United States
GEO:44.31;-69.78
X-APPLE-STRUCTURED-LOCATION;VALUE=URI;X-ADDRESS=webinar\, via Zoom\, United
  States;X-APPLE-RADIUS=100;X-TITLE=Online:geo:44.31,-69.78
END:VEVENT
BEGIN:VTIMEZONE
TZID:America/New_York
X-LIC-LOCATION:America/New_York
BEGIN:DAYLIGHT
DTSTART:20220313T030000
TZOFFSETFROM:-0500
TZOFFSETTO:-0400
TZNAME:EDT
END:DAYLIGHT
END:VTIMEZONE
END:VCALENDAR