
BEGIN:VCALENDAR
VERSION:2.0
PRODID:-//wp-events-plugin.com//7.2.3.1//EN
TZID:America/New_York
X-WR-TIMEZONE:America/New_York
BEGIN:VEVENT
UID:603@famemaine.com
DTSTART;TZID=America/New_York:20251107T120000
DTEND;TZID=America/New_York:20251107T130000
DTSTAMP:20250805T125003Z
URL:https://www.famemaine.com/events/getting-the-most-for-your-money-finan
 cial-aid-scholarships-and-the-return-on-investment-of-higher-education-2/
SUMMARY:Getting the Most for Your Money: Financial Aid\, Scholarships\, and
  the Return on Investment of Higher Education
DESCRIPTION:Join FAME to learn about financial aid for Maine students\, too
 ls for evaluating college affordability\, the return on investment of educ
 ation\, and the keys to unlocking free money and scholarships. We’ll bus
 t some myths about saving for college and the impact on financial aid\, al
 ong with strategies that will help you feel more confident and prepared to
  develop a plan to pay for education beyond high school.\n\nRegister
CATEGORIES:Education,Financial Check-in with FAME,Financial Wellness
LOCATION:Online\, webinar\, via Zoom\, United States
GEO:44.31;-69.78
X-APPLE-STRUCTURED-LOCATION;VALUE=URI;X-ADDRESS=webinar\, via Zoom\, United
  States;X-APPLE-RADIUS=100;X-TITLE=Online:geo:44.31,-69.78
END:VEVENT
BEGIN:VTIMEZONE
TZID:America/New_York
X-LIC-LOCATION:America/New_York
BEGIN:STANDARD
DTSTART:20251102T010000
TZOFFSETFROM:-0400
TZOFFSETTO:-0500
TZNAME:EST
END:STANDARD
END:VTIMEZONE
END:VCALENDAR