
BEGIN:VCALENDAR
VERSION:2.0
PRODID:-//wp-events-plugin.com//7.2.3.1//EN
TZID:America/New_York
X-WR-TIMEZONE:America/New_York
BEGIN:VEVENT
UID:579@famemaine.com
DTSTART;TZID=America/New_York:20250905T120000
DTEND;TZID=America/New_York:20250905T120000
DTSTAMP:20250805T132244Z
URL:https://www.famemaine.com/events/free-online-financial-wellness-for-ma
 ine-people-a-tour-of-enrich/
SUMMARY:FREE Online Financial Wellness for Maine People: A Tour of Enrich®
DESCRIPTION:It’s never too late (or too early) to build your financial kn
 owledge\, skills\, and behavior. During this session\, we’ll introduce y
 ou to FAME’s free online financial wellness tool\, Enrich. Through Enric
 h\, you’ll find easy to use\, engaging\, and fully customized tools and 
 resources to help you strengthen your money skills. You’ll also have imm
 ediate access to free courses\, articles\, videos\, calculators\, and an i
 nteractive Money Personality tool. Learning about money doesn’t have to 
 be boring or time consuming\, and this session will help you find a path t
 oward success.\n\nRegister
CATEGORIES:Financial Check-in with FAME
LOCATION:Online\, webinar\, via Zoom\, United States
GEO:44.31;-69.78
X-APPLE-STRUCTURED-LOCATION;VALUE=URI;X-ADDRESS=webinar\, via Zoom\, United
  States;X-APPLE-RADIUS=100;X-TITLE=Online:geo:44.31,-69.78
END:VEVENT
BEGIN:VTIMEZONE
TZID:America/New_York
X-LIC-LOCATION:America/New_York
BEGIN:DAYLIGHT
DTSTART:20250309T030000
TZOFFSETFROM:-0500
TZOFFSETTO:-0400
TZNAME:EDT
END:DAYLIGHT
END:VTIMEZONE
END:VCALENDAR