
BEGIN:VCALENDAR
VERSION:2.0
PRODID:-//wp-events-plugin.com//7.2.3.1//EN
TZID:America/New_York
X-WR-TIMEZONE:America/New_York
BEGIN:VEVENT
UID:563@famemaine.com
DTSTART;TZID=America/New_York:20250502T120000
DTEND;TZID=America/New_York:20250502T130000
DTSTAMP:20250404T142721Z
URL:https://www.famemaine.com/events/financial-check-in-with-fame-understa
 nding-education-savings/
SUMMARY:Financial Check-in With FAME: Understanding Education Savings
DESCRIPTION:\n\nUnderstanding Education Savings\nIs education beyond high s
 chool in your family’s future? If so\, then this is the session for you!
  During this webinar\, we will share tips for evaluating net price (what y
 ou’ll actually pay) versus sticker price and explain the aspirational an
 d financial benefits of saving for college. We’ll also discuss various s
 avings options such as Coverdell\, UTMA/UGMA accounts\, and Maine’s 529 
 education savings plan.\nRegister Now\n
CATEGORIES:Financial Check-in with FAME,Financial Wellness
LOCATION:Online\, webinar\, via Zoom\, United States
GEO:44.31;-69.78
X-APPLE-STRUCTURED-LOCATION;VALUE=URI;X-ADDRESS=webinar\, via Zoom\, United
  States;X-APPLE-RADIUS=100;X-TITLE=Online:geo:44.31,-69.78
END:VEVENT
BEGIN:VTIMEZONE
TZID:America/New_York
X-LIC-LOCATION:America/New_York
BEGIN:DAYLIGHT
DTSTART:20250309T030000
TZOFFSETFROM:-0500
TZOFFSETTO:-0400
TZNAME:EDT
END:DAYLIGHT
END:VTIMEZONE
END:VCALENDAR