
BEGIN:VCALENDAR
VERSION:2.0
PRODID:-//wp-events-plugin.com//7.2.3.1//EN
TZID:America/New_York
X-WR-TIMEZONE:America/New_York
BEGIN:VEVENT
UID:565@famemaine.com
DTSTART;TZID=America/New_York:20250711T120000
DTEND;TZID=America/New_York:20250711T130000
DTSTAMP:20250404T143112Z
URL:https://www.famemaine.com/events/financial-check-in-with-fame-raising-
 financially-savvy-kids/
SUMMARY:Financial Check-in With FAME: Raising Financially Savvy Kids
DESCRIPTION:\n\n\n\nRaising Financially Savvy Kids\nDuring this workshop\, 
 we’ll share key strategies for supporting your child on a path toward li
 felong financial wellness\, including free resources and tools to support 
 you on your journey. Whether your child is seven or 17\, it’s never too 
 early (or too late) to begin talking with your child about money.\n\n\nReg
 ister Now\n
CATEGORIES:Financial Check-in with FAME,Financial Wellness
LOCATION:Online\, webinar\, via Zoom\, United States
GEO:44.31;-69.78
X-APPLE-STRUCTURED-LOCATION;VALUE=URI;X-ADDRESS=webinar\, via Zoom\, United
  States;X-APPLE-RADIUS=100;X-TITLE=Online:geo:44.31,-69.78
END:VEVENT
BEGIN:VTIMEZONE
TZID:America/New_York
X-LIC-LOCATION:America/New_York
BEGIN:DAYLIGHT
DTSTART:20250309T030000
TZOFFSETFROM:-0500
TZOFFSETTO:-0400
TZNAME:EDT
END:DAYLIGHT
END:VTIMEZONE
END:VCALENDAR