
BEGIN:VCALENDAR
VERSION:2.0
PRODID:-//wp-events-plugin.com//7.2.3.1//EN
TZID:America/New_York
X-WR-TIMEZONE:America/New_York
BEGIN:VEVENT
UID:562@famemaine.com
DTSTART;TZID=America/New_York:20250404T120000
DTEND;TZID=America/New_York:20250404T130000
DTSTAMP:20250404T142606Z
URL:https://www.famemaine.com/events/financial-check-in-with-fame-personal
 -finance-foundations-part-ii/
SUMMARY:Financial Check-in With FAME: Personal Finance Foundations Part II
DESCRIPTION:\nPersonal Finance Foundations Part II: From Emergency Funds to
  Investing\nYou’re on a budget and have a solid emergency fund in place.
  What’s next? Are you ready to invest or start long-term savings for a h
 ome\, education\, or retirement? Perhaps you are still managing debt? Join
  us as we discuss intermediate steps on the road to personal financial wel
 lness.\nRegister Now\n
CATEGORIES:Financial Check-in with FAME,Financial Wellness
LOCATION:Online\, webinar\, via Zoom\, United States
GEO:44.31;-69.78
X-APPLE-STRUCTURED-LOCATION;VALUE=URI;X-ADDRESS=webinar\, via Zoom\, United
  States;X-APPLE-RADIUS=100;X-TITLE=Online:geo:44.31,-69.78
END:VEVENT
BEGIN:VTIMEZONE
TZID:America/New_York
X-LIC-LOCATION:America/New_York
BEGIN:DAYLIGHT
DTSTART:20250309T030000
TZOFFSETFROM:-0500
TZOFFSETTO:-0400
TZNAME:EDT
END:DAYLIGHT
END:VTIMEZONE
END:VCALENDAR