
BEGIN:VCALENDAR
VERSION:2.0
PRODID:-//wp-events-plugin.com//7.2.3.1//EN
TZID:America/New_York
X-WR-TIMEZONE:America/New_York
BEGIN:VEVENT
UID:350@famemaine.com
DTSTART;TZID=America/New_York:20231026T180000
DTEND;TZID=America/New_York:20231026T200000
DTSTAMP:20231026T141330Z
URL:https://www.famemaine.com/events/financial-aid-workshop-the-first-step
 s-free-and-fast-16/
SUMMARY:[POSTPONED until November 2]: Regional Financial Aid Workshop: The 
 first steps\, free and fast.
DESCRIPTION:This is your starting line. After this free\, one-hour get-toge
 ther\, you’ll have taken the critical first steps to apply for financial
  aid and be on your path to a more affordable higher education.\nDuring th
 is session\, you’ll have the opportunity to create your FSA ID (the user
 name and password required to access all Federal Student Aid websites). To
  create an FSA ID\, each student and parent will need to know their Social
  Security number and name as it appears on their Social Security card.\nWh
 at to Bring:\n\n\n 	A laptop or other device to create your FSA ID (Some d
 evices will be available if you are not able to bring one.)\n 	Access to e
 mail for both the student and contributing parent(s) (Access to a device t
 hat can receive text messages will be helpful.)\n
CATEGORIES:Education,Financial Aid Information Sessions
LOCATION:Skowhegan Area High School\, 61 Academy Circle\, Skowhegan\, Maine
 \, 04976\, United States
GEO:44.7508953;-69.72866249999998
X-APPLE-STRUCTURED-LOCATION;VALUE=URI;X-ADDRESS=61 Academy Circle\, Skowheg
 an\, Maine\, 04976\, United States;X-APPLE-RADIUS=100;X-TITLE=Skowhegan Ar
 ea High School:geo:44.7508953,-69.72866249999998
END:VEVENT
BEGIN:VTIMEZONE
TZID:America/New_York
X-LIC-LOCATION:America/New_York
BEGIN:DAYLIGHT
DTSTART:20230312T030000
TZOFFSETFROM:-0500
TZOFFSETTO:-0400
TZNAME:EDT
END:DAYLIGHT
END:VTIMEZONE
END:VCALENDAR