
BEGIN:VCALENDAR
VERSION:2.0
PRODID:-//wp-events-plugin.com//7.2.3.1//EN
TZID:America/New_York
X-WR-TIMEZONE:America/New_York
BEGIN:VEVENT
UID:488@famemaine.com
DTSTART;TZID=America/New_York:20241003T180000
DTEND;TZID=America/New_York:20241003T190000
DTSTAMP:20240905T163810Z
URL:https://www.famemaine.com/events/financial-aid-information-session-85/
SUMMARY:Financial Aid Information Session
DESCRIPTION:Calling all high school seniors and their caregivers (and anyon
 e else interested in learning about financial aid)! The Free Application f
 or Federal Student Aid (FAFSA) will be available in the fall of 2024. Now 
 is the time to get ready to apply for financial aid and FAME is here to he
 lp! We look forward to seeing you and be sure to bring your questions!
CATEGORIES:Education,Financial Aid Information Sessions
LOCATION:Scarborough High School\, 11 Municipal Drive\, Scarborough\, ME\, 
 04074\, United States
GEO:43.594099;-70.33774299999999
X-APPLE-STRUCTURED-LOCATION;VALUE=URI;X-ADDRESS=11 Municipal Drive\, Scarbo
 rough\, ME\, 04074\, United States;X-APPLE-RADIUS=100;X-TITLE=Scarborough 
 High School:geo:43.594099,-70.33774299999999
END:VEVENT
BEGIN:VTIMEZONE
TZID:America/New_York
X-LIC-LOCATION:America/New_York
BEGIN:DAYLIGHT
DTSTART:20240310T030000
TZOFFSETFROM:-0500
TZOFFSETTO:-0400
TZNAME:EDT
END:DAYLIGHT
END:VTIMEZONE
END:VCALENDAR