
BEGIN:VCALENDAR
VERSION:2.0
PRODID:-//wp-events-plugin.com//7.2.3.1//EN
TZID:America/New_York
X-WR-TIMEZONE:America/New_York
BEGIN:VEVENT
UID:236@famemaine.com
DTSTART;TZID=America/New_York:20221101T183000
DTEND;TZID=America/New_York:20221101T203000
DTSTAMP:20220915T162015Z
URL:https://www.famemaine.com/events/financial-aid-information-session-30/
SUMMARY:Financial Aid Information Session
DESCRIPTION:Calling all high school seniors and their families (and anyone 
 else interested in learning about financial aid)! The Free Application for
  Federal Student Aid (FAFSA) will be available on October 1\, 2022. Join u
 s to learn about the financial aid process and what you can do to get read
 y. We look forward to seeing you!
CATEGORIES:Financial Aid Information Sessions
LOCATION:Central High School\, 408 Main Street\, Corinth\, Maine\, 04427\, 
 United States
GEO:44.9968992;-69.02037129999997
X-APPLE-STRUCTURED-LOCATION;VALUE=URI;X-ADDRESS=408 Main Street\, Corinth\,
  Maine\, 04427\, United States;X-APPLE-RADIUS=100;X-TITLE=Central High Sch
 ool:geo:44.9968992,-69.02037129999997
END:VEVENT
BEGIN:VTIMEZONE
TZID:America/New_York
X-LIC-LOCATION:America/New_York
BEGIN:DAYLIGHT
DTSTART:20220313T030000
TZOFFSETFROM:-0500
TZOFFSETTO:-0400
TZNAME:EDT
END:DAYLIGHT
END:VTIMEZONE
END:VCALENDAR