
BEGIN:VCALENDAR
VERSION:2.0
PRODID:-//wp-events-plugin.com//7.2.3.1//EN
TZID:America/New_York
X-WR-TIMEZONE:America/New_York
BEGIN:VEVENT
UID:200@famemaine.com
DTSTART;TZID=America/New_York:20220930T170000
DTEND;TZID=America/New_York:20220930T190000
DTSTAMP:20220916T145221Z
URL:https://www.famemaine.com/events/financial-aid-information-session-20/
SUMMARY:Financial Aid Information Session
DESCRIPTION:Calling all high school seniors and their families (and anyone 
 else interested in learning about financial aid)! The Free Application for
  Federal Student Aid (FAFSA) will be available on October 1\, 2022. Join u
 s to learn about the financial aid process and what you can do to get read
 y. We look forward to seeing you!
CATEGORIES:Financial Aid Information Sessions
LOCATION:Boothbay Region High School\, 236 Townsend Avenue\, Boothbay\, Mai
 ne\, United States
GEO:43.8643242;-69.62946010000002
X-APPLE-STRUCTURED-LOCATION;VALUE=URI;X-ADDRESS=236 Townsend Avenue\, Booth
 bay\, Maine\, United States;X-APPLE-RADIUS=100;X-TITLE=Boothbay Region Hig
 h School:geo:43.8643242,-69.62946010000002
END:VEVENT
BEGIN:VTIMEZONE
TZID:America/New_York
X-LIC-LOCATION:America/New_York
BEGIN:DAYLIGHT
DTSTART:20220313T030000
TZOFFSETFROM:-0500
TZOFFSETTO:-0400
TZNAME:EDT
END:DAYLIGHT
END:VTIMEZONE
END:VCALENDAR