
BEGIN:VCALENDAR
VERSION:2.0
PRODID:-//wp-events-plugin.com//7.2.3.1//EN
TZID:America/New_York
X-WR-TIMEZONE:America/New_York
BEGIN:VEVENT
UID:688@famemaine.com
DTSTART;TZID=America/New_York:20260406T180000
DTEND;TZID=America/New_York:20260406T180000
DTSTAMP:20260309T200954Z
URL:https://www.famemaine.com/events/financial-aid-information-session-163
 /
SUMMARY:Financial Aid Information Session
DESCRIPTION:Calling all high school juniors and their caregivers (and anyon
 e interested in knowing more about financial aid)! The Free Application fo
 r Federal Student Aid (FAFSA) will be available on October 1\, 2026. Now i
 s the time to learn about the process so you can take the steps needed to 
 be ready to file the FAFSA in the fall. FAME is here to help\, and we enco
 urage you to bring your questions. Hope to see you there!
CATEGORIES:Community and Adult Education,Education,Financial Aid
 Information Sessions
LOCATION:Bangor High School\, 885 Broadway\, Bangor\, ME\, 04401\, United S
 tates
GEO:44.83128970000001;-68.78163970000003
X-APPLE-STRUCTURED-LOCATION;VALUE=URI;X-ADDRESS=885 Broadway\, Bangor\, ME\
 , 04401\, United States;X-APPLE-RADIUS=100;X-TITLE=Bangor High School:geo:
 44.83128970000001,-68.78163970000003
END:VEVENT
BEGIN:VTIMEZONE
TZID:America/New_York
X-LIC-LOCATION:America/New_York
BEGIN:DAYLIGHT
DTSTART:20260308T030000
TZOFFSETFROM:-0500
TZOFFSETTO:-0400
TZNAME:EDT
END:DAYLIGHT
END:VTIMEZONE
END:VCALENDAR