
BEGIN:VCALENDAR
VERSION:2.0
PRODID:-//wp-events-plugin.com//7.2.3.1//EN
TZID:America/New_York
X-WR-TIMEZONE:America/New_York
BEGIN:VEVENT
UID:629@famemaine.com
DTSTART;TZID=America/New_York:20251112T180000
DTEND;TZID=America/New_York:20251112T200000
DTSTAMP:20250819T200214Z
URL:https://www.famemaine.com/events/financial-aid-information-session-134
 /
SUMMARY:Financial Aid Information Session
DESCRIPTION:Calling all high school seniors and their caregivers (and anyon
 e interested in knowing more about financial aid)! The Free Application fo
 r Federal Student Aid (FAFSA) will be available on October 1\, 2025. Now i
 s the time to learn about the process so you can take the steps needed to 
 be ready to file the FAFSA. FAME is here to help\, and we encourage you to
  bring your questions. Hope to see you there!
CATEGORIES:Community and Adult Education,Education,Financial Aid
 Information Sessions
LOCATION:Poland Regional High School\, 1457 Maine Street\, Poland\, Maine\,
  04274\, United States
GEO:44.07065619999999;-70.41168140000002
X-APPLE-STRUCTURED-LOCATION;VALUE=URI;X-ADDRESS=1457 Maine Street\, Poland\
 , Maine\, 04274\, United States;X-APPLE-RADIUS=100;X-TITLE=Poland Regional
  High School:geo:44.07065619999999,-70.41168140000002
END:VEVENT
BEGIN:VTIMEZONE
TZID:America/New_York
X-LIC-LOCATION:America/New_York
BEGIN:STANDARD
DTSTART:20251102T010000
TZOFFSETFROM:-0400
TZOFFSETTO:-0500
TZNAME:EST
END:STANDARD
END:VTIMEZONE
END:VCALENDAR