
BEGIN:VCALENDAR
VERSION:2.0
PRODID:-//wp-events-plugin.com//7.2.3.1//EN
TZID:America/New_York
X-WR-TIMEZONE:America/New_York
BEGIN:VEVENT
UID:613@famemaine.com
DTSTART;TZID=America/New_York:20250914T180000
DTEND;TZID=America/New_York:20250914T200000
DTSTAMP:20250812T144409Z
URL:https://www.famemaine.com/events/financial-aid-information-session-118
 /
SUMMARY:Financial Aid Information Session
DESCRIPTION:Calling all high school seniors and their caregivers (and anyon
 e interested in knowing more about financial aid)! The Free Application fo
 r Federal Student Aid (FAFSA) will be available on October 1\, 2025. Now i
 s the time to learn about the process so you can take the steps needed to 
 be ready to file the FAFSA. FAME is here to help\, and we encourage you to
  bring your questions. Hope to see you there!
CATEGORIES:Community and Adult Education,Education,Financial Aid
 Information Sessions
LOCATION:Mt. Desert Island High School\, 1081 Eagle Lake Road\, Bar Harbor\
 , Maine\, 04609\, United States
GEO:44.37303499999999;-68.301087
X-APPLE-STRUCTURED-LOCATION;VALUE=URI;X-ADDRESS=1081 Eagle Lake Road\, Bar 
 Harbor\, Maine\, 04609\, United States;X-APPLE-RADIUS=100;X-TITLE=Mt. Dese
 rt Island High School:geo:44.37303499999999,-68.301087
END:VEVENT
BEGIN:VTIMEZONE
TZID:America/New_York
X-LIC-LOCATION:America/New_York
BEGIN:DAYLIGHT
DTSTART:20250309T030000
TZOFFSETFROM:-0500
TZOFFSETTO:-0400
TZNAME:EDT
END:DAYLIGHT
END:VTIMEZONE
END:VCALENDAR