
BEGIN:VCALENDAR
VERSION:2.0
PRODID:-//wp-events-plugin.com//7.2.3.1//EN
TZID:America/New_York
X-WR-TIMEZONE:America/New_York
BEGIN:VEVENT
UID:610@famemaine.com
DTSTART;TZID=America/New_York:20250909T180000
DTEND;TZID=America/New_York:20250909T200000
DTSTAMP:20250812T142552Z
URL:https://www.famemaine.com/events/financial-aid-information-session-115
 /
SUMMARY:Financial Aid Information Session
DESCRIPTION:Calling all high school seniors and their caregivers (and anyon
 e interested in knowing more about financial aid)! The Free Application fo
 r Federal Student Aid (FAFSA) will be available on October 1\, 2025. Now i
 s the time to learn about the process so you can take the steps needed to 
 be ready to file the FAFSA. FAME is here to help\, and we encourage you to
  bring your questions. Hope to see you there!
CATEGORIES:Community and Adult Education,Education,Financial Aid
 Information Sessions
LOCATION:Ashland Community High School\, 180 Presque Isle Road\, Ashland\, 
 Maine\, United States
GEO:46.6270295;-68.39622199999997
X-APPLE-STRUCTURED-LOCATION;VALUE=URI;X-ADDRESS=180 Presque Isle Road\, Ash
 land\, Maine\, United States;X-APPLE-RADIUS=100;X-TITLE=Ashland Community 
 High School:geo:46.6270295,-68.39622199999997
END:VEVENT
BEGIN:VTIMEZONE
TZID:America/New_York
X-LIC-LOCATION:America/New_York
BEGIN:DAYLIGHT
DTSTART:20250309T030000
TZOFFSETFROM:-0500
TZOFFSETTO:-0400
TZNAME:EDT
END:DAYLIGHT
END:VTIMEZONE
END:VCALENDAR