
BEGIN:VCALENDAR
VERSION:2.0
PRODID:-//wp-events-plugin.com//7.2.3.1//EN
TZID:America/New_York
X-WR-TIMEZONE:America/New_York
BEGIN:VEVENT
UID:422@famemaine.com
DTSTART;TZID=America/New_York:20240322T080000
DTEND;TZID=America/New_York:20240322T140000
DTSTAMP:20240209T203228Z
URL:https://www.famemaine.com/events/financial-aid-101-virtual-event/
SUMMARY:Financial Aid 101: Virtual Event
DESCRIPTION:Virtual Financial Aid 101 (FA 101) is FAME’s annual financial
  aid training for school counselors\, college access advisors\, educators 
 and anyone assisting students with the financial aid process. This free ev
 ent offers the latest financial aid updates\, training sessions on our mos
 t requested topics\, and information on events and activities for the upco
 ming year.\nZoom links will be sent to registrants as we get closer to the
  event.\nRegister.
CATEGORIES:Education
LOCATION:Online\, webinar\, via Zoom\, United States
GEO:44.31;-69.78
X-APPLE-STRUCTURED-LOCATION;VALUE=URI;X-ADDRESS=webinar\, via Zoom\, United
  States;X-APPLE-RADIUS=100;X-TITLE=Online:geo:44.31,-69.78
END:VEVENT
BEGIN:VTIMEZONE
TZID:America/New_York
X-LIC-LOCATION:America/New_York
BEGIN:DAYLIGHT
DTSTART:20240310T030000
TZOFFSETFROM:-0500
TZOFFSETTO:-0400
TZNAME:EDT
END:DAYLIGHT
END:VTIMEZONE
END:VCALENDAR