
BEGIN:VCALENDAR
VERSION:2.0
PRODID:-//wp-events-plugin.com//7.2.3.1//EN
TZID:America/New_York
X-WR-TIMEZONE:America/New_York
BEGIN:VEVENT
UID:639@famemaine.com
DTSTART;TZID=America/New_York:20251031T083000
DTEND;TZID=America/New_York:20251031T123000
DTSTAMP:20250923T133334Z
URL:https://www.famemaine.com/events/financial-aid-101-a-free-training-for
 -counselors-advisors-and-educators-5/
SUMMARY:Financial Aid 101: A FREE Training for Counselors\, Advisors\, and 
 Educators
DESCRIPTION:Financial Aid 101 (FA 101) is FAME’s annual financial aid tra
 ining for school counselors\, college access advisors\, educators\, and an
 yone assisting students with the financial aid process. This free event of
 fers the latest financial aid updates\, training sessions on our most requ
 ested topics\, and information on events and activities for the upcoming y
 ear.\n\nRegister
CATEGORIES:Community and Adult Education,Education,Financial Aid
 Information Sessions
LOCATION:Online\, webinar\, via Zoom\, United States
GEO:44.31;-69.78
X-APPLE-STRUCTURED-LOCATION;VALUE=URI;X-ADDRESS=webinar\, via Zoom\, United
  States;X-APPLE-RADIUS=100;X-TITLE=Online:geo:44.31,-69.78
END:VEVENT
BEGIN:VTIMEZONE
TZID:America/New_York
X-LIC-LOCATION:America/New_York
BEGIN:DAYLIGHT
DTSTART:20250309T030000
TZOFFSETFROM:-0500
TZOFFSETTO:-0400
TZNAME:EDT
END:DAYLIGHT
END:VTIMEZONE
END:VCALENDAR