
BEGIN:VCALENDAR
VERSION:2.0
PRODID:-//wp-events-plugin.com//7.2.3.1//EN
TZID:America/New_York
X-WR-TIMEZONE:America/New_York
BEGIN:VEVENT
UID:536@famemaine.com
DTSTART;TZID=America/New_York:20250328T083000
DTEND;TZID=America/New_York:20250328T140000
DTSTAMP:20250131T195957Z
URL:https://www.famemaine.com/events/financial-aid-101-a-free-training-for
 -counselors-advisors-and-educators-4/
SUMMARY:Financial Aid 101: A FREE Training for Counselors\, Advisors\, and 
 Educators
DESCRIPTION:Join us for our virtual Financial Aid 101 on Friday\, March 28t
 h from 8:00 AM– 2:00 PM.\n\nThis virtual event will include the same con
 tent as the in-person training held on March 21st.\n\nSessions from this t
 raining will be recorded and links to the recordings will be sent to all r
 egistrants following the event.\n\nFinancial Aid 101 is a FREE event desig
 ned to provide financial aid training and share resources with school coun
 selors\, college access professionals\, and education partners who support
  students as they navigate the financial aid process and pay for higher ed
 ucation.\n\nJoin us for a day packed with information where you’ll learn
  more about:\n\n 	Applying for financial aid including a series of FAFSA f
 ocused sessions and one dedicated to the CSS Profile\n 	Scholarships and t
 ips to help students with a successful search\n 	Resources\, programs\, an
 d tools to help pay for higher education for high school students\, adults
 \, and new Mainers\n 	And much more! See the agenda for more information.\
 n\nPre-registration is required. Feel free to forward this invitation to o
 thers who would be interested in attending.\n\nPlease contact Nikki Vachon
  with questions. We look forward to seeing you in March!\n\nRegister for F
 inancial Aid 101 Virtual Event on March 28th\, 2025\n\n&nbsp\;
CATEGORIES:Education
LOCATION:Online\, webinar\, via Zoom\, United States
GEO:44.31;-69.78
X-APPLE-STRUCTURED-LOCATION;VALUE=URI;X-ADDRESS=webinar\, via Zoom\, United
  States;X-APPLE-RADIUS=100;X-TITLE=Online:geo:44.31,-69.78
END:VEVENT
BEGIN:VTIMEZONE
TZID:America/New_York
X-LIC-LOCATION:America/New_York
BEGIN:DAYLIGHT
DTSTART:20250309T030000
TZOFFSETFROM:-0500
TZOFFSETTO:-0400
TZNAME:EDT
END:DAYLIGHT
END:VTIMEZONE
END:VCALENDAR