
BEGIN:VCALENDAR
VERSION:2.0
PRODID:-//wp-events-plugin.com//7.2.3.1//EN
TZID:America/New_York
X-WR-TIMEZONE:America/New_York
BEGIN:VEVENT
UID:289@famemaine.com
DTSTART;TZID=America/New_York:20230614T130000
DTEND;TZID=America/New_York:20230614T140000
DTSTAMP:20230424T115748Z
URL:https://www.famemaine.com/events/fafsa-simplification-is-coming/
SUMMARY:FAFSA Simplification is Coming!
DESCRIPTION:FAFSA simplification\, also known as Better FAFSA\, Better Futu
 re by Federal Student Aid\, is coming! Updates to the FAFSA form and proce
 ss will result in the most significant changes in the last 30 years. The n
 ew form will be “roles-based” and require everyone accessing the FAFSA
  to have an FSA ID that’s been matched with the Social Security Administ
 ration. In this session\, we’ll share an overview of the changes as well
  as what you need to know to help your students and families get ready for
  the 2024-2025 FAFSA and its delayed release in December 2023.\n\nRegister
CATEGORIES:Education,Wednesday Webinar
LOCATION:Online\, webinar\, via Zoom\, United States
GEO:44.31;-69.78
X-APPLE-STRUCTURED-LOCATION;VALUE=URI;X-ADDRESS=webinar\, via Zoom\, United
  States;X-APPLE-RADIUS=100;X-TITLE=Online:geo:44.31,-69.78
END:VEVENT
BEGIN:VTIMEZONE
TZID:America/New_York
X-LIC-LOCATION:America/New_York
BEGIN:DAYLIGHT
DTSTART:20230312T030000
TZOFFSETFROM:-0500
TZOFFSETTO:-0400
TZNAME:EDT
END:DAYLIGHT
END:VTIMEZONE
END:VCALENDAR