
BEGIN:VCALENDAR
VERSION:2.0
PRODID:-//wp-events-plugin.com//7.2.3.1//EN
TZID:America/New_York
X-WR-TIMEZONE:America/New_York
BEGIN:VEVENT
UID:501@famemaine.com
DTSTART;TZID=America/New_York:20250207T120000
DTEND;TZID=America/New_York:20250207T130000
DTSTAMP:20241024T155213Z
URL:https://www.famemaine.com/events/building-family-financial-wellness-wi
 th-invest-in-me-reads/
SUMMARY:Building Family Financial Wellness with Invest in ME Reads
DESCRIPTION:Financial Check-in with FAME (February 2025)\n\nDid you know th
 at FAME sends free children’s books and resources to every Maine child i
 n grades one through six\, including financial wellness resources for adul
 ts and caregivers? If not\, then we hope you’ll join us for an overview 
 of FAME’s family financial wellness program\, Invest in ME Reads. During
  the webinar\, we’ll share information about the books and resources\, c
 aregiver guides\, and the tools and activities that are available at Inves
 tinMeReads.com.\n\nRegister.
CATEGORIES:Education,Financial Wellness
LOCATION:Online\, webinar\, via Zoom\, United States
GEO:44.31;-69.78
X-APPLE-STRUCTURED-LOCATION;VALUE=URI;X-ADDRESS=webinar\, via Zoom\, United
  States;X-APPLE-RADIUS=100;X-TITLE=Online:geo:44.31,-69.78
END:VEVENT
BEGIN:VTIMEZONE
TZID:America/New_York
X-LIC-LOCATION:America/New_York
BEGIN:STANDARD
DTSTART:20241103T010000
TZOFFSETFROM:-0400
TZOFFSETTO:-0500
TZNAME:EST
END:STANDARD
END:VTIMEZONE
END:VCALENDAR