
BEGIN:VCALENDAR
VERSION:2.0
PRODID:-//wp-events-plugin.com//7.2.3.1//EN
TZID:America/New_York
X-WR-TIMEZONE:America/New_York
BEGIN:VEVENT
UID:576@famemaine.com
DTSTART;TZID=America/New_York:20250715T150000
DTEND;TZID=America/New_York:20250715T150000
DTSTAMP:20250630T182805Z
URL:https://www.famemaine.com/events/bidders-conference-enterprise-archite
 cture-rfp/
SUMMARY:Bidders' Conference - Enterprise Architecture RFP
DESCRIPTION:\nFAME will host a Virtual Bidders’ Conference on Tuesday\, J
 uly 15th at 3 pm. Companies interested in attending must register by Tues
 day\, July 15\, by 10 am. A video recording will also be made available.\n
 \n\n\nThe purpose of the Bidders’ Conference is to answer and/or field q
 uestions\, clarify for potential bidders any aspect of the RFP requirement
 s that may be necessary\, and provide supplemental information to assist p
 otential Bidders in submitting responses to the RFP. Although attendance a
 t the Bidders’ Conference is not mandatory\, it is strongly encouraged t
 hat interested bidders attend.\nRegister Now\nFor more information on FAME
 's Enterprise Architecture Design and Implementation RFP go to FAMEmaine.c
 om/rfp-ea\n
LOCATION:Online\, webinar\, via Zoom\, United States
GEO:44.31;-69.78
X-APPLE-STRUCTURED-LOCATION;VALUE=URI;X-ADDRESS=webinar\, via Zoom\, United
  States;X-APPLE-RADIUS=100;X-TITLE=Online:geo:44.31,-69.78
END:VEVENT
BEGIN:VTIMEZONE
TZID:America/New_York
X-LIC-LOCATION:America/New_York
BEGIN:DAYLIGHT
DTSTART:20250309T030000
TZOFFSETFROM:-0500
TZOFFSETTO:-0400
TZNAME:EDT
END:DAYLIGHT
END:VTIMEZONE
END:VCALENDAR