
BEGIN:VCALENDAR
VERSION:2.0
PRODID:-//wp-events-plugin.com//7.2.3.1//EN
TZID:America/New_York
X-WR-TIMEZONE:America/New_York
BEGIN:VEVENT
UID:660@famemaine.com
DTSTART;TZID=America/New_York:20251104T090000
DTEND;TZID=America/New_York:20251104T120000
DTSTAMP:20251017T191516Z
URL:https://www.famemaine.com/events/advisory-committee-on-education-savin
 gs-public-meeting-2/
SUMMARY:Advisory Committee on Education Savings - Public Meeting
DESCRIPTION:The members of the Advisory Committee on Education Savings will
  meet on Tuesday\, November 4\, 2025\, beginning at 9:00 a.m. at the Westi
 n Portland Harborview\, 157 High St. Portland\, ME.\nMembers of the public
  may attend in person or by conference call. To obtain the call instructio
 ns\, please call Cheryl Wilkinson at the number below. Some items may be c
 onsidered in Executive Session.\nFor further information or call instructi
 ons\, contact Cheryl Wilkinson\, College Savings Program Operations &amp\;
  Outreach Officer\, Finance Authority of Maine\, P.O. Box 949\, Augusta\, 
 Maine 04332-0949\, (207) 620-3554.
CATEGORIES:NextGen 529
LOCATION:Westin Portland Harborview\, 157 High Street\, Portland\, ME\, 041
 01\, United States
GEO:43.654916;-70.264009
X-APPLE-STRUCTURED-LOCATION;VALUE=URI;X-ADDRESS=157 High Street\, Portland\
 , ME\, 04101\, United States;X-APPLE-RADIUS=100;X-TITLE=Westin Portland Ha
 rborview:geo:43.654916,-70.264009
END:VEVENT
BEGIN:VTIMEZONE
TZID:America/New_York
X-LIC-LOCATION:America/New_York
BEGIN:STANDARD
DTSTART:20251102T010000
TZOFFSETFROM:-0400
TZOFFSETTO:-0500
TZNAME:EST
END:STANDARD
END:VTIMEZONE
END:VCALENDAR