
BEGIN:VCALENDAR
VERSION:2.0
PRODID:-//wp-events-plugin.com//7.2.3.1//EN
TZID:America/New_York
X-WR-TIMEZONE:America/New_York
BEGIN:VEVENT
UID:702@famemaine.com
DTSTART;TZID=America/New_York:20260519T090000
DTEND;TZID=America/New_York:20260519T090000
DTSTAMP:20260421T194301Z
URL:https://www.famemaine.com/events/advisory-committee-on-education-savin
 gs-meeting-7/
SUMMARY:Advisory Committee on Education Savings Meeting
DESCRIPTION:The members of the Advisory Committee on Education Savings will
  meet on Tuesday\, May 19\, 2026\, beginning at 9:00 a.m. at the Finance A
 uthority of Maine\, 5 Community Drive\, Augusta.\nMembers of the public ma
 y attend in person or by conference call. To obtain the call instructions\
 , please call Cheryl Wilkinson at the number below. Some items may be cons
 idered in Executive Session.\nFor further information or call instructions
 \, contact Cheryl Wilkinson\, College Savings Program Operations &amp\; Ou
 treach Officer\, Finance Authority of Maine\, P.O. Box 949\, Augusta\, Mai
 ne 04332-0949\, (207) 620-3554.
CATEGORIES:NextGen 529
LOCATION:FAME\, 5 Community Drive\, Augusta\, Maine\, United States
GEO:44.3406852;-69.7934922
X-APPLE-STRUCTURED-LOCATION;VALUE=URI;X-ADDRESS=5 Community Drive\, Augusta
 \, Maine\, United States;X-APPLE-RADIUS=100;X-TITLE=FAME:geo:44.3406852,-6
 9.7934922
END:VEVENT
BEGIN:VTIMEZONE
TZID:America/New_York
X-LIC-LOCATION:America/New_York
BEGIN:DAYLIGHT
DTSTART:20260308T030000
TZOFFSETFROM:-0500
TZOFFSETTO:-0400
TZNAME:EDT
END:DAYLIGHT
END:VTIMEZONE
END:VCALENDAR