
BEGIN:VCALENDAR
VERSION:2.0
PRODID:-//wp-events-plugin.com//7.2.3.1//EN
TZID:America/New_York
X-WR-TIMEZONE:America/New_York
BEGIN:VEVENT
UID:412@famemaine.com
DTSTART;TZID=America/New_York:20240403T183000
DTEND;TZID=America/New_York:20240403T193000
DTSTAMP:20240110T163424Z
URL:https://www.famemaine.com/events/adulting-101-money-starts/
SUMMARY:Adulting 101: Money Starts
DESCRIPTION:Adulting is tough\, and finances can be one of the trickiest pa
 rts. Whether you’ve been adulting for decades or are just getting starte
 d\, we have good news--banking basics\, spending plans\, credit scores\, a
 nd useful tools and apps are available to help make the whole adulting thi
 ng a little bit easier. Join FAME Financial Education Programs Specialist 
 Steve Kautz for this 1-hour virtual workshop as we dive into some adulting
  money basics together.\nRegister
CATEGORIES:Education,Financial Wellness
LOCATION:Online\, webinar\, via Zoom\, United States
GEO:44.31;-69.78
X-APPLE-STRUCTURED-LOCATION;VALUE=URI;X-ADDRESS=webinar\, via Zoom\, United
  States;X-APPLE-RADIUS=100;X-TITLE=Online:geo:44.31,-69.78
END:VEVENT
BEGIN:VTIMEZONE
TZID:America/New_York
X-LIC-LOCATION:America/New_York
BEGIN:DAYLIGHT
DTSTART:20240310T030000
TZOFFSETFROM:-0500
TZOFFSETTO:-0400
TZNAME:EDT
END:DAYLIGHT
END:VTIMEZONE
END:VCALENDAR