
BEGIN:VCALENDAR
VERSION:2.0
PRODID:-//wp-events-plugin.com//7.2.3.1//EN
TZID:America/New_York
X-WR-TIMEZONE:America/New_York
BEGIN:VEVENT
UID:583@famemaine.com
DTSTART;TZID=America/New_York:20260109T120000
DTEND;TZID=America/New_York:20260109T120000
DTSTAMP:20250711T184150Z
URL:https://www.famemaine.com/events/a-most-important-lesson-financial-wel
 lness-for-children-and-teens/
SUMMARY:A Most Important Lesson: Financial Wellness for Children and Teens
DESCRIPTION:Studies show that parents and caregivers are the number one inf
 luence when it comes to building a child’s lifelong financial skills. Ho
 wever\, many of us didn’t receive financial education at home or at scho
 ol and are unsure where to begin. The good news is you don’t have to be 
 an expert\, and you don’t have to go it alone – FAME is here to help! 
 Join us for easy-to-use tips and conversation starters and learn about fre
 e resources and tools to help your entire family build financial wellness.
 \n\nRegister Now
LOCATION:Online\, webinar\, via Zoom\, United States
GEO:44.31;-69.78
X-APPLE-STRUCTURED-LOCATION;VALUE=URI;X-ADDRESS=webinar\, via Zoom\, United
  States;X-APPLE-RADIUS=100;X-TITLE=Online:geo:44.31,-69.78
END:VEVENT
BEGIN:VTIMEZONE
TZID:America/New_York
X-LIC-LOCATION:America/New_York
BEGIN:STANDARD
DTSTART:20251102T010000
TZOFFSETFROM:-0400
TZOFFSETTO:-0500
TZNAME:EST
END:STANDARD
END:VTIMEZONE
END:VCALENDAR